Package: SparseSignatures Version: 2.21.0 Command: /home/biocbuild/bbs-3.23-bioc/R/bin/R CMD build --keep-empty-dirs --no-resave-data SparseSignatures StartedAt: 2025-11-19 20:14:18 -0500 (Wed, 19 Nov 2025) EndedAt: 2025-11-19 20:18:03 -0500 (Wed, 19 Nov 2025) EllapsedTime: 224.2 seconds RetCode: 0 Status: OK PackageFile: SparseSignatures_2.21.0.tar.gz PackageFileSize: 1.469 MiB