Package: SparseSignatures Version: 2.21.0 Command: /home/biocbuild/bbs-3.23-bioc/R/bin/R CMD INSTALL SparseSignatures StartedAt: 2025-11-19 15:31:58 -0500 (Wed, 19 Nov 2025) EndedAt: 2025-11-19 15:32:38 -0500 (Wed, 19 Nov 2025) EllapsedTime: 39.6 seconds RetCode: 0 Status: OK