Package: SparseSignatures Version: 2.19.1 Command: /home/biocbuild/bbs-3.22-bioc/R/bin/R CMD build --keep-empty-dirs --no-resave-data --md5 SparseSignatures StartedAt: 2025-07-25 21:32:21 -0400 (Fri, 25 Jul 2025) EndedAt: 2025-07-25 21:36:09 -0400 (Fri, 25 Jul 2025) EllapsedTime: 228.2 seconds RetCode: 0 Status: OK PackageFile: SparseSignatures_2.19.1.tar.gz PackageFileSize: 1.47 MiB