Package: SparseSignatures Version: 2.19.1 Command: /home/biocbuild/bbs-3.22-bioc/R/bin/R CMD INSTALL SparseSignatures StartedAt: 2025-07-25 17:40:42 -0400 (Fri, 25 Jul 2025) EndedAt: 2025-07-25 17:41:23 -0400 (Fri, 25 Jul 2025) EllapsedTime: 40.5 seconds RetCode: 0 Status: OK