Package: SpatialExperiment Version: 1.19.1 Command: /home/biocbuild/bbs-3.22-bioc/R/bin/R CMD build --keep-empty-dirs --no-resave-data --md5 SpatialExperiment StartedAt: 2025-10-08 20:37:41 -0400 (Wed, 08 Oct 2025) EndedAt: 2025-10-08 20:38:42 -0400 (Wed, 08 Oct 2025) EllapsedTime: 61.0 seconds RetCode: 0 Status: OK PackageFile: SpatialExperiment_1.19.1.tar.gz PackageFileSize: 5.159 MiB