Package: SpatialExperiment Version: 1.19.1 Command: /home/biocbuild/bbs-3.22-bioc/R/bin/R CMD INSTALL SpatialExperiment StartedAt: 2025-10-08 15:30:43 -0400 (Wed, 08 Oct 2025) EndedAt: 2025-10-08 15:31:10 -0400 (Wed, 08 Oct 2025) EllapsedTime: 26.6 seconds RetCode: 0 Status: OK