Package: SpatialExperimentIO Version: 1.3.0 Command: rm -rf SpatialExperimentIO.buildbin-libdir && mkdir SpatialExperimentIO.buildbin-libdir && /Users/biocbuild/BBS/utils/build-universal.sh SpatialExperimentIO_1.3.0.tar.gz /Library/Frameworks/R.framework/Resources/bin/R SpatialExperimentIO.buildbin-libdir StartedAt: 2025-11-14 23:53:14 -0500 (Fri, 14 Nov 2025) EndedAt: 2025-11-14 23:53:29 -0500 (Fri, 14 Nov 2025) EllapsedTime: 15.4 seconds RetCode: 0 Status: OK PackageFile: SpatialExperimentIO_1.3.0.tgz PackageFileSize: 649.6 KiB