Package: SpatialExperimentIO Version: 1.3.0 Command: /Library/Frameworks/R.framework/Resources/bin/R CMD INSTALL SpatialExperimentIO StartedAt: 2025-11-14 15:25:57 -0500 (Fri, 14 Nov 2025) EndedAt: 2025-11-14 15:26:09 -0500 (Fri, 14 Nov 2025) EllapsedTime: 12.3 seconds RetCode: 0 Status: OK