Package: SpatialExperimentIO Version: 1.3.0 Command: /Library/Frameworks/R.framework/Resources/bin/R CMD INSTALL SpatialExperimentIO StartedAt: 2025-11-21 15:45:08 -0500 (Fri, 21 Nov 2025) EndedAt: 2025-11-21 15:45:51 -0500 (Fri, 21 Nov 2025) EllapsedTime: 42.7 seconds RetCode: 0 Status: OK