Package: SpectraQL Version: 1.3.1 Command: /home/biocbuild/bbs-3.22-bioc/R/bin/R CMD INSTALL SpectraQL StartedAt: 2025-10-14 15:14:42 -0400 (Tue, 14 Oct 2025) EndedAt: 2025-10-14 15:14:51 -0400 (Tue, 14 Oct 2025) EllapsedTime: 8.4 seconds RetCode: 0 Status: OK