Package: SplicingFactory Version: 1.19.0 Command: /Library/Frameworks/R.framework/Resources/bin/R CMD build --keep-empty-dirs --no-resave-data SplicingFactory StartedAt: 2025-11-26 17:47:42 -0500 (Wed, 26 Nov 2025) EndedAt: 2025-11-26 17:47:58 -0500 (Wed, 26 Nov 2025) EllapsedTime: 16.2 seconds RetCode: 0 Status: OK PackageFile: SplicingFactory_1.19.0.tar.gz PackageFileSize: 791.1 KiB