Package: SplicingFactory Version: 1.19.0 Command: /Library/Frameworks/R.framework/Resources/bin/R CMD INSTALL SplicingFactory StartedAt: 2025-11-26 15:14:34 -0500 (Wed, 26 Nov 2025) EndedAt: 2025-11-26 15:14:42 -0500 (Wed, 26 Nov 2025) EllapsedTime: 8.7 seconds RetCode: 0 Status: OK