Package: SplicingGraphs Version: 1.51.1 Command: /home/biocbuild/bbs-3.23-bioc/R/bin/R CMD build --keep-empty-dirs --no-resave-data SplicingGraphs StartedAt: 2025-11-06 20:10:35 -0500 (Thu, 06 Nov 2025) EndedAt: 2025-11-06 20:14:39 -0500 (Thu, 06 Nov 2025) EllapsedTime: 244.2 seconds RetCode: 0 Status: OK PackageFile: SplicingGraphs_1.51.1.tar.gz PackageFileSize: 4.474 MiB