Package: SplicingGraphs Version: 1.51.1 Command: /home/biocbuild/bbs-3.23-bioc/R/bin/R CMD INSTALL SplicingGraphs StartedAt: 2025-11-06 15:38:39 -0500 (Thu, 06 Nov 2025) EndedAt: 2025-11-06 15:39:20 -0500 (Thu, 06 Nov 2025) EllapsedTime: 40.9 seconds RetCode: 0 Status: OK