Package: Structstrings Version: 1.25.0 Command: /home/biocbuild/bbs-3.22-bioc/R/bin/R CMD build --keep-empty-dirs --no-resave-data --md5 Structstrings StartedAt: 2025-07-13 19:23:29 -0400 (Sun, 13 Jul 2025) EndedAt: 2025-07-13 19:23:57 -0400 (Sun, 13 Jul 2025) EllapsedTime: 28.0 seconds RetCode: 0 Status: OK PackageFile: Structstrings_1.25.0.tar.gz PackageFileSize: 368.4 KiB