Package: StructuralVariantAnnotation Version: 1.25.0 Command: /Library/Frameworks/R.framework/Resources/bin/R CMD build --keep-empty-dirs --no-resave-data StructuralVariantAnnotation StartedAt: 2025-07-17 17:45:47 -0400 (Thu, 17 Jul 2025) EndedAt: 2025-07-17 17:46:18 -0400 (Thu, 17 Jul 2025) EllapsedTime: 31.4 seconds RetCode: 0 Status: OK PackageFile: StructuralVariantAnnotation_1.25.0.tar.gz PackageFileSize: 962.3 KiB