Package: StructuralVariantAnnotation Version: 1.25.0 Command: rm -rf StructuralVariantAnnotation.buildbin-libdir && mkdir StructuralVariantAnnotation.buildbin-libdir && /Users/biocbuild/BBS/utils/build-universal.sh StructuralVariantAnnotation_1.25.0.tar.gz /Library/Frameworks/R.framework/Resources/bin/R StructuralVariantAnnotation.buildbin-libdir StartedAt: 2025-07-25 01:57:03 -0400 (Fri, 25 Jul 2025) EndedAt: 2025-07-25 01:58:00 -0400 (Fri, 25 Jul 2025) EllapsedTime: 56.9 seconds RetCode: 0 Status: OK PackageFile: StructuralVariantAnnotation_1.25.0.tgz PackageFileSize: 1.07 MiB