Package: StructuralVariantAnnotation Version: 1.25.0 Command: /Library/Frameworks/R.framework/Resources/bin/R CMD build --keep-empty-dirs --no-resave-data StructuralVariantAnnotation StartedAt: 2025-07-24 19:13:18 -0400 (Thu, 24 Jul 2025) EndedAt: 2025-07-24 19:14:42 -0400 (Thu, 24 Jul 2025) EllapsedTime: 84.6 seconds RetCode: 0 Status: OK PackageFile: StructuralVariantAnnotation_1.25.0.tar.gz PackageFileSize: 962 KiB