Package: StructuralVariantAnnotation Version: 1.25.0 Command: /Library/Frameworks/R.framework/Resources/bin/R CMD INSTALL StructuralVariantAnnotation StartedAt: 2025-07-24 15:50:25 -0400 (Thu, 24 Jul 2025) EndedAt: 2025-07-24 15:51:19 -0400 (Thu, 24 Jul 2025) EllapsedTime: 54.1 seconds RetCode: 0 Status: OK