Package: SubCellBarCode Version: 1.27.0 Command: /home/biocbuild/bbs-3.23-bioc/R/bin/R CMD INSTALL SubCellBarCode StartedAt: 2025-11-02 15:32:54 -0500 (Sun, 02 Nov 2025) EndedAt: 2025-11-02 15:33:19 -0500 (Sun, 02 Nov 2025) EllapsedTime: 24.4 seconds RetCode: 0 Status: OK