Package: SubCellBarCode Version: 1.25.0 Command: /home/biocbuild/bbs-3.22-bioc/R/bin/R CMD build --keep-empty-dirs --no-resave-data --md5 SubCellBarCode StartedAt: 2025-07-24 19:33:37 -0400 (Thu, 24 Jul 2025) EndedAt: 2025-07-24 19:38:20 -0400 (Thu, 24 Jul 2025) EllapsedTime: 283.6 seconds RetCode: 0 Status: OK PackageFile: SubCellBarCode_1.25.0.tar.gz PackageFileSize: 2.308 MiB