Package: SubCellBarCode Version: 1.25.0 Command: /home/biocbuild/bbs-3.22-bioc/R/bin/R CMD INSTALL SubCellBarCode StartedAt: 2025-07-24 15:31:05 -0400 (Thu, 24 Jul 2025) EndedAt: 2025-07-24 15:31:26 -0400 (Thu, 24 Jul 2025) EllapsedTime: 21.2 seconds RetCode: 0 Status: OK