Back to Build/check report for BioC 3.23:   simplified   long
ABCDEFGHIJKLMNOPQRS[T]UVWXYZ

This page was generated on 2025-11-06 11:32 -0500 (Thu, 06 Nov 2025).

HostnameOSArch (*)R versionInstalled pkgs
nebbiolo1Linux (Ubuntu 24.04.3 LTS)x86_64R Under development (unstable) (2025-10-20 r88955) -- "Unsuffered Consequences" 4818
Click on any hostname to see more info about the system (e.g. compilers)      (*) as reported by 'uname -p', except on Windows and Mac OS X

All results for package TCGAutils


To the developers/maintainers of the TCGAutils package:
- Allow up to 24 hours (and sometimes 48 hours) for your latest push to git@git.bioconductor.org:packages/TCGAutils.git to reflect on this report. See Troubleshooting Build Report for more information.
- Use the following Renviron settings to reproduce errors and warnings.
- If 'R CMD check' started to fail recently on the Linux builder(s) over a missing dependency, add the missing dependency to 'Suggests:' in your DESCRIPTION file. See Renviron.bioc for more information.

raw results

Package 2157/2323HostnameOS / ArchINSTALLBUILDCHECKBUILD BIN
TCGAutils 1.31.0  (landing page)
Marcel Ramos
Snapshot Date: 2025-11-05 13:40 -0500 (Wed, 05 Nov 2025)
git_url: https://git.bioconductor.org/packages/TCGAutils
git_branch: devel
git_last_commit: 4b0da87
git_last_commit_date: 2025-10-29 10:45:09 -0500 (Wed, 29 Oct 2025)
nebbiolo1Linux (Ubuntu 24.04.3 LTS) / x86_64  ERROR    ERROR  skipped



Results for Bioconductor software packages that depend directly on package TCGAutils

QUICK STATSOS / ArchINSTALLBUILDCHECKBUILD BIN
nebbiolo1Linux (Ubuntu 24.04.3 LTS) / x86_64
013
031
0001
Package 1/4HostnameOS / ArchINSTALLBUILDCHECKBUILD BIN
cBioPortalData 2.23.0  (landing page)
Marcel Ramos
git_last_commit: eaed633
git_last_commit_date: 2025-10-29 10:59:37 -0500
nebbiolo1Linux (Ubuntu 24.04.3 LTS) / x86_64  ERROR    ERROR  skipped
Package 2/4HostnameOS / ArchINSTALLBUILDCHECKBUILD BIN
glmSparseNet 1.29.0  (landing page)
André Veríssimo
git_last_commit: 4e68566
git_last_commit_date: 2025-10-29 10:47:42 -0500
nebbiolo1Linux (Ubuntu 24.04.3 LTS) / x86_64  OK    ERROR  skipped
Package 3/4HostnameOS / ArchINSTALLBUILDCHECKBUILD BIN
RTCGAToolbox 2.41.0  (landing page)
Marcel Ramos
git_last_commit: d55f300
git_last_commit_date: 2025-10-29 10:26:09 -0500
nebbiolo1Linux (Ubuntu 24.04.3 LTS) / x86_64  OK    ERROR  skipped
Package 4/4HostnameOS / ArchINSTALLBUILDCHECKBUILD BIN
terraTCGAdata 1.15.0  (landing page)
Marcel Ramos
git_last_commit: 752f735
git_last_commit_date: 2025-10-29 11:16:25 -0500
nebbiolo1Linux (Ubuntu 24.04.3 LTS) / x86_64  OK    OK    OK  NO, package depends on 'TCGAutils' which is not available