Package: TCseq Version: 1.33.0 Command: /home/biocbuild/bbs-3.22-bioc/R/bin/R CMD INSTALL TCseq StartedAt: 2025-10-12 15:33:28 -0400 (Sun, 12 Oct 2025) EndedAt: 2025-10-12 15:33:59 -0400 (Sun, 12 Oct 2025) EllapsedTime: 30.9 seconds RetCode: 0 Status: OK