Package: TFBSTools Version: 1.47.1 Command: /home/biocbuild/bbs-3.22-bioc/R/bin/R CMD build --keep-empty-dirs --no-resave-data --md5 TFBSTools StartedAt: 2025-10-23 20:32:17 -0400 (Thu, 23 Oct 2025) EndedAt: 2025-10-23 20:33:24 -0400 (Thu, 23 Oct 2025) EllapsedTime: 67.0 seconds RetCode: 0 Status: OK PackageFile: TFBSTools_1.47.1.tar.gz PackageFileSize: 586.1 KiB