Package: TFBSTools Version: 1.47.1 Command: /home/biocbuild/bbs-3.22-bioc/R/bin/R CMD INSTALL TFBSTools StartedAt: 2025-10-23 15:54:02 -0400 (Thu, 23 Oct 2025) EndedAt: 2025-10-23 15:54:51 -0400 (Thu, 23 Oct 2025) EllapsedTime: 49.0 seconds RetCode: 0 Status: OK