Package: TTMap Version: 1.31.0 Command: /home/biocbuild/bbs-3.22-bioc/R/bin/R CMD INSTALL TTMap StartedAt: 2025-10-06 15:22:53 -0400 (Mon, 06 Oct 2025) EndedAt: 2025-10-06 15:23:15 -0400 (Mon, 06 Oct 2025) EllapsedTime: 22.0 seconds RetCode: 0 Status: OK