Package: TileDBArray Version: 1.21.0 Maintainer: Aaron Lun MaintainerEmail: infinite.monkeys.with.keyboards at gmail.com git_url: https://git.bioconductor.org/packages/TileDBArray git_branch: devel git_last_commit: 4e1f73b git_last_commit_date: 2025-10-29 11:02:23 -0400 (Wed, 29 Oct 2025)