Package: TileDBArray Version: 1.21.0 Command: /home/biocbuild/bbs-3.23-bioc/R/bin/R CMD INSTALL TileDBArray StartedAt: 2025-11-14 15:16:48 -0500 (Fri, 14 Nov 2025) EndedAt: 2025-11-14 15:17:09 -0500 (Fri, 14 Nov 2025) EllapsedTime: 20.7 seconds RetCode: 0 Status: OK