Package: TileDBArray Version: 1.19.1 Command: /home/biocbuild/bbs-3.22-bioc/R/bin/R CMD build --keep-empty-dirs --no-resave-data --md5 TileDBArray StartedAt: 2025-07-16 19:44:34 -0400 (Wed, 16 Jul 2025) EndedAt: 2025-07-16 19:45:04 -0400 (Wed, 16 Jul 2025) EllapsedTime: 30.0 seconds RetCode: 0 Status: OK PackageFile: TileDBArray_1.19.1.tar.gz PackageFileSize: 305.6 KiB