Package: TileDBArray Version: 1.19.1 Command: /home/biocbuild/bbs-3.22-bioc/R/bin/R CMD INSTALL TileDBArray StartedAt: 2025-07-16 15:15:25 -0400 (Wed, 16 Jul 2025) EndedAt: 2025-07-16 15:15:48 -0400 (Wed, 16 Jul 2025) EllapsedTime: 23.9 seconds RetCode: 0 Status: OK