Package: TrajectoryGeometry Version: 1.19.0 Command: /home/biocbuild/bbs-3.23-bioc/R/bin/R CMD INSTALL TrajectoryGeometry StartedAt: 2025-11-14 15:08:40 -0500 (Fri, 14 Nov 2025) EndedAt: 2025-11-14 15:08:52 -0500 (Fri, 14 Nov 2025) EllapsedTime: 12.0 seconds RetCode: 0 Status: OK