Package: TrajectoryGeometry Version: 1.17.0 Command: /home/biocbuild/bbs-3.22-bioc/R/bin/R CMD build --keep-empty-dirs --no-resave-data --md5 TrajectoryGeometry StartedAt: 2025-07-24 19:41:36 -0400 (Thu, 24 Jul 2025) EndedAt: 2025-07-24 19:45:57 -0400 (Thu, 24 Jul 2025) EllapsedTime: 261.4 seconds RetCode: 0 Status: OK PackageFile: TrajectoryGeometry_1.17.0.tar.gz PackageFileSize: 1.894 MiB