Package: TrajectoryUtils Version: 1.17.0 Command: /Library/Frameworks/R.framework/Resources/bin/R CMD build --keep-empty-dirs --no-resave-data TrajectoryUtils StartedAt: 2025-10-03 17:57:34 -0400 (Fri, 03 Oct 2025) EndedAt: 2025-10-03 17:57:49 -0400 (Fri, 03 Oct 2025) EllapsedTime: 15.2 seconds RetCode: 0 Status: OK PackageFile: TrajectoryUtils_1.17.0.tar.gz PackageFileSize: 340.6 KiB