Package: TrajectoryUtils Version: 1.17.0 Command: /Library/Frameworks/R.framework/Resources/bin/R CMD INSTALL TrajectoryUtils StartedAt: 2025-10-03 15:15:24 -0400 (Fri, 03 Oct 2025) EndedAt: 2025-10-03 15:15:33 -0400 (Fri, 03 Oct 2025) EllapsedTime: 9.7 seconds RetCode: 0 Status: OK