Package: TrajectoryUtils Version: 1.17.0 Command: rm -rf TrajectoryUtils.buildbin-libdir && mkdir TrajectoryUtils.buildbin-libdir && /Users/biocbuild/BBS/utils/build-universal.sh TrajectoryUtils_1.17.0.tar.gz /Library/Frameworks/R.framework/Resources/bin/R TrajectoryUtils.buildbin-libdir StartedAt: 2025-10-20 03:38:59 -0400 (Mon, 20 Oct 2025) EndedAt: 2025-10-20 03:39:35 -0400 (Mon, 20 Oct 2025) EllapsedTime: 36.0 seconds RetCode: 0 Status: OK PackageFile: TrajectoryUtils_1.17.0.tgz PackageFileSize: 569.8 KiB