Package: TrajectoryUtils Version: 1.19.0 Command: /home/biocbuild/bbs-3.23-bioc/R/bin/R CMD build --keep-empty-dirs --no-resave-data TrajectoryUtils StartedAt: 2025-11-07 20:30:21 -0500 (Fri, 07 Nov 2025) EndedAt: 2025-11-07 20:30:55 -0500 (Fri, 07 Nov 2025) EllapsedTime: 34.0 seconds RetCode: 0 Status: OK PackageFile: TrajectoryUtils_1.19.0.tar.gz PackageFileSize: 334.2 KiB