Package: TreeSummarizedExperiment Version: 2.19.0 Command: /Library/Frameworks/R.framework/Resources/bin/R CMD INSTALL TreeSummarizedExperiment StartedAt: 2025-11-26 15:15:35 -0500 (Wed, 26 Nov 2025) EndedAt: 2025-11-26 15:15:48 -0500 (Wed, 26 Nov 2025) EllapsedTime: 13.0 seconds RetCode: 0 Status: OK