Package: VCFArray Version: 1.27.0 Command: /home/biocbuild/bbs-3.23-bioc/R/bin/R CMD build --keep-empty-dirs --no-resave-data VCFArray StartedAt: 2025-10-31 20:47:30 -0400 (Fri, 31 Oct 2025) EndedAt: 2025-10-31 20:48:41 -0400 (Fri, 31 Oct 2025) EllapsedTime: 71.2 seconds RetCode: 0 Status: OK PackageFile: VCFArray_1.27.0.tar.gz PackageFileSize: 302.7 KiB