Package: VCFArray Version: 1.27.0 Command: /home/biocbuild/bbs-3.23-bioc/R/bin/R CMD INSTALL VCFArray StartedAt: 2025-11-02 16:03:09 -0500 (Sun, 02 Nov 2025) EndedAt: 2025-11-02 16:03:50 -0500 (Sun, 02 Nov 2025) EllapsedTime: 41.6 seconds RetCode: 0 Status: OK