Package: VariantAnnotation Version: 1.57.0 Command: /home/biocbuild/bbs-3.23-bioc/R/bin/R CMD build --keep-empty-dirs --no-resave-data VariantAnnotation StartedAt: 2025-11-06 20:33:13 -0500 (Thu, 06 Nov 2025) EndedAt: 2025-11-06 20:36:11 -0500 (Thu, 06 Nov 2025) EllapsedTime: 178.1 seconds RetCode: 0 Status: OK PackageFile: VariantAnnotation_1.57.0.tar.gz PackageFileSize: 2.045 MiB