Package: VariantExperiment Version: 1.23.0 Command: /home/biocbuild/bbs-3.22-bioc/R/bin/R CMD INSTALL VariantExperiment StartedAt: 2025-10-12 15:24:18 -0400 (Sun, 12 Oct 2025) EndedAt: 2025-10-12 15:24:42 -0400 (Sun, 12 Oct 2025) EllapsedTime: 23.6 seconds RetCode: 0 Status: OK