Package: VplotR Version: 1.21.0 Command: /home/biocbuild/bbs-3.23-bioc/R/bin/R CMD build --keep-empty-dirs --no-resave-data VplotR StartedAt: 2025-11-23 20:42:46 -0500 (Sun, 23 Nov 2025) EndedAt: 2025-11-23 20:44:33 -0500 (Sun, 23 Nov 2025) EllapsedTime: 107.1 seconds RetCode: 0 Status: OK PackageFile: VplotR_1.21.0.tar.gz PackageFileSize: 5.154 MiB