Package: VplotR Version: 1.21.0 Command: /home/biocbuild/bbs-3.23-bioc/R/bin/R CMD INSTALL VplotR StartedAt: 2025-11-23 15:51:04 -0500 (Sun, 23 Nov 2025) EndedAt: 2025-11-23 15:51:35 -0500 (Sun, 23 Nov 2025) EllapsedTime: 30.6 seconds RetCode: 0 Status: OK