Package: XNAString Version: 1.17.1 Command: /home/biocbuild/bbs-3.22-bioc/R/bin/R CMD build --keep-empty-dirs --no-resave-data --md5 XNAString StartedAt: 2025-10-21 20:47:23 -0400 (Tue, 21 Oct 2025) EndedAt: 2025-10-21 20:47:28 -0400 (Tue, 21 Oct 2025) EllapsedTime: 5.0 seconds RetCode: 1 Status: ERROR PackageFile: None PackageFileSize: NA