Package: XNAString Version: 1.17.1 Command: /home/biocbuild/bbs-3.22-bioc/R/bin/R CMD INSTALL XNAString StartedAt: 2025-10-21 15:51:51 -0400 (Tue, 21 Oct 2025) EndedAt: 2025-10-21 15:51:57 -0400 (Tue, 21 Oct 2025) EllapsedTime: 5.4 seconds RetCode: 1 Status: ERROR