Package: a4Preproc Version: 1.57.0 Command: /home/biocbuild/bbs-3.22-bioc/R/bin/R CMD INSTALL a4Preproc StartedAt: 2025-10-06 15:11:37 -0400 (Mon, 06 Oct 2025) EndedAt: 2025-10-06 15:11:39 -0400 (Mon, 06 Oct 2025) EllapsedTime: 2.3 seconds RetCode: 0 Status: OK