Package: aggregateBioVar Version: 1.21.0 Command: rm -rf aggregateBioVar.buildbin-libdir && mkdir aggregateBioVar.buildbin-libdir && /Users/biocbuild/BBS/utils/build-universal.sh aggregateBioVar_1.21.0.tar.gz /Library/Frameworks/R.framework/Resources/bin/R aggregateBioVar.buildbin-libdir StartedAt: 2025-11-18 23:30:17 -0500 (Tue, 18 Nov 2025) EndedAt: 2025-11-18 23:30:28 -0500 (Tue, 18 Nov 2025) EllapsedTime: 11.2 seconds RetCode: 0 Status: OK PackageFile: aggregateBioVar_1.21.0.tgz PackageFileSize: 1.707 MiB