Back to Build/check report for BioC 3.23:   simplified   long
[A]BCDEFGHIJKLMNOPQRSTUVWXYZ

This page was generated on 2025-11-04 11:32 -0500 (Tue, 04 Nov 2025).

HostnameOSArch (*)R versionInstalled pkgs
nebbiolo1Linux (Ubuntu 24.04.3 LTS)x86_64R Under development (unstable) (2025-10-20 r88955) -- "Unsuffered Consequences" 4788
Click on any hostname to see more info about the system (e.g. compilers)      (*) as reported by 'uname -p', except on Windows and Mac OS X

All results for package annotate


To the developers/maintainers of the annotate package:
- Allow up to 24 hours (and sometimes 48 hours) for your latest push to git@git.bioconductor.org:packages/annotate.git to reflect on this report. See Troubleshooting Build Report for more information.
- Use the following Renviron settings to reproduce errors and warnings.
- If 'R CMD check' started to fail recently on the Linux builder(s) over a missing dependency, add the missing dependency to 'Suggests:' in your DESCRIPTION file. See Renviron.bioc for more information.

raw results

Package 73/2323HostnameOS / ArchINSTALLBUILDCHECKBUILD BIN
annotate 1.89.0  (landing page)
Bioconductor Package Maintainer
Snapshot Date: 2025-11-03 13:40 -0500 (Mon, 03 Nov 2025)
git_url: https://git.bioconductor.org/packages/annotate
git_branch: devel
git_last_commit: a7eff2c
git_last_commit_date: 2025-10-29 09:23:46 -0500 (Wed, 29 Oct 2025)
nebbiolo1Linux (Ubuntu 24.04.3 LTS) / x86_64  OK    OK    OK  UNNEEDED, same version is already published



Results for Bioconductor software packages that depend directly on package annotate

QUICK STATSOS / ArchINSTALLBUILDCHECKBUILD BIN
nebbiolo1Linux (Ubuntu 24.04.3 LTS) / x86_64
0030
0228
02620
Package 1/30HostnameOS / ArchINSTALLBUILDCHECKBUILD BIN
CAFE 1.47.0  (landing page)
Sander Bollen
git_last_commit: 6e8ab41
git_last_commit_date: 2025-10-29 10:18:22 -0500
nebbiolo1Linux (Ubuntu 24.04.3 LTS) / x86_64  OK    OK    WARNINGS  NO, package depends on 'biovizBase' which is not available
Package 2/30HostnameOS / ArchINSTALLBUILDCHECKBUILD BIN
Category 2.77.0  (landing page)
Bioconductor Package Maintainer
git_last_commit: 6850286
git_last_commit_date: 2025-10-29 09:56:37 -0500
nebbiolo1Linux (Ubuntu 24.04.3 LTS) / x86_64  OK    OK    OK  UNNEEDED, same version is already published
Package 3/30HostnameOS / ArchINSTALLBUILDCHECKBUILD BIN
categoryCompare 1.55.0  (landing page)
Robert M. Flight
git_last_commit: 22bf171
git_last_commit_date: 2025-10-29 10:11:00 -0500
nebbiolo1Linux (Ubuntu 24.04.3 LTS) / x86_64  OK    OK    OK  UNNEEDED, same version is already published
Package 4/30HostnameOS / ArchINSTALLBUILDCHECKBUILD BIN
ChromHeatMap 1.65.0  (landing page)
Tim F. Rayner
git_last_commit: d47e520
git_last_commit_date: 2025-10-29 10:03:49 -0500
nebbiolo1Linux (Ubuntu 24.04.3 LTS) / x86_64  OK    OK    OK  NO, package depends on 'rtracklayer' which is not available
Package 5/30HostnameOS / ArchINSTALLBUILDCHECKBUILD BIN
CNEr 1.47.0  (landing page)
Boris Lenhard Damir Baranasic
git_last_commit: 4d7f8ce
git_last_commit_date: 2025-10-29 10:18:00 -0500
nebbiolo1Linux (Ubuntu 24.04.3 LTS) / x86_64  OK    OK    WARNINGS  NO, package depends on 'rtracklayer' which is not available
Package 6/30HostnameOS / ArchINSTALLBUILDCHECKBUILD BIN
codelink 1.79.0  (landing page)
Diego Diez
git_last_commit: 28ca5f2
git_last_commit_date: 2025-10-29 09:57:29 -0500
nebbiolo1Linux (Ubuntu 24.04.3 LTS) / x86_64  OK    OK    OK  UNNEEDED, same version is already published
Package 7/30HostnameOS / ArchINSTALLBUILDCHECKBUILD BIN
debrowser 1.39.0  (landing page)
Alper Kucukural
git_last_commit: 17795bc
git_last_commit_date: 2025-10-29 10:30:54 -0500
nebbiolo1Linux (Ubuntu 24.04.3 LTS) / x86_64  OK    OK    OK  NO, package depends on 'Harman' which is not available
Package 8/30HostnameOS / ArchINSTALLBUILDCHECKBUILD BIN
DrugVsDisease 2.53.0  (landing page)
j. Saez-Rodriguez
git_last_commit: 6483099
git_last_commit_date: 2025-10-29 10:13:26 -0500
nebbiolo1Linux (Ubuntu 24.04.3 LTS) / x86_64  OK    OK    OK  UNNEEDED, same version is already published
Package 9/30HostnameOS / ArchINSTALLBUILDCHECKBUILD BIN
genefilter 1.93.0  (landing page)
Bioconductor Package Maintainer
git_last_commit: 434deb9
git_last_commit_date: 2025-10-29 09:41:48 -0500
nebbiolo1Linux (Ubuntu 24.04.3 LTS) / x86_64  OK    OK    WARNINGS  UNNEEDED, same version is already published
Package 10/30HostnameOS / ArchINSTALLBUILDCHECKBUILD BIN
geneplotter 1.89.0  (landing page)
Bioconductor Package Maintainer
git_last_commit: 0a5a7d6
git_last_commit_date: 2025-10-29 09:41:50 -0500
nebbiolo1Linux (Ubuntu 24.04.3 LTS) / x86_64  OK    OK    OK  UNNEEDED, same version is already published
Package 11/30HostnameOS / ArchINSTALLBUILDCHECKBUILD BIN
GlobalAncova 4.29.0  (landing page)
Manuela Hummel
git_last_commit: 342275c
git_last_commit_date: 2025-10-29 09:57:03 -0500
nebbiolo1Linux (Ubuntu 24.04.3 LTS) / x86_64  OK    OK    WARNINGS  UNNEEDED, same version is already published
Package 12/30HostnameOS / ArchINSTALLBUILDCHECKBUILD BIN
globaltest 5.65.0  (landing page)
Jelle Goeman
git_last_commit: f1b6690
git_last_commit_date: 2025-10-29 09:55:12 -0500
nebbiolo1Linux (Ubuntu 24.04.3 LTS) / x86_64  OK    OK    OK  UNNEEDED, same version is already published
Package 13/30HostnameOS / ArchINSTALLBUILDCHECKBUILD BIN
GOstats 2.77.0  (landing page)
Bioconductor Package Maintainer
git_last_commit: d09aa16
git_last_commit_date: 2025-10-29 09:55:01 -0500
nebbiolo1Linux (Ubuntu 24.04.3 LTS) / x86_64  OK    OK    OK  UNNEEDED, same version is already published
Package 14/30HostnameOS / ArchINSTALLBUILDCHECKBUILD BIN
GSEABase 1.73.0  (landing page)
Bioconductor Package Maintainer
git_last_commit: 40d4be6
git_last_commit_date: 2025-10-29 09:59:33 -0500
nebbiolo1Linux (Ubuntu 24.04.3 LTS) / x86_64  OK    OK    OK  UNNEEDED, same version is already published
Package 15/30HostnameOS / ArchINSTALLBUILDCHECKBUILD BIN
idiogram 1.87.0  (landing page)
Karl J. Dykema
git_last_commit: 495914b
git_last_commit_date: 2025-10-29 09:56:25 -0500
nebbiolo1Linux (Ubuntu 24.04.3 LTS) / x86_64  OK    OK    OK  UNNEEDED, same version is already published
Package 16/30HostnameOS / ArchINSTALLBUILDCHECKBUILD BIN
lumi 2.63.0  (landing page)
Lei Huang
git_last_commit: 692966d
git_last_commit_date: 2025-10-29 09:58:49 -0500
nebbiolo1Linux (Ubuntu 24.04.3 LTS) / x86_64  OK    OK    ERROR  
Package 17/30HostnameOS / ArchINSTALLBUILDCHECKBUILD BIN
methylumi 2.57.0  (landing page)
Sean Davis
git_last_commit: dcf4f3c
git_last_commit_date: 2025-10-29 10:02:53 -0500
nebbiolo1Linux (Ubuntu 24.04.3 LTS) / x86_64  OK    OK    OK  NO, package depends on 'minfi' which is not available
Package 18/30HostnameOS / ArchINSTALLBUILDCHECKBUILD BIN
MGFM 1.45.0  (landing page)
Khadija El Amrani
git_last_commit: 86143b0
git_last_commit_date: 2025-10-29 10:21:39 -0500
nebbiolo1Linux (Ubuntu 24.04.3 LTS) / x86_64  OK    OK    OK  UNNEEDED, same version is already published
Package 19/30HostnameOS / ArchINSTALLBUILDCHECKBUILD BIN
MGFR 1.37.0  (landing page)
Khadija El Amrani
git_last_commit: 01c645b
git_last_commit_date: 2025-10-29 10:33:04 -0500
nebbiolo1Linux (Ubuntu 24.04.3 LTS) / x86_64  OK    ERROR  skipped
Package 20/30HostnameOS / ArchINSTALLBUILDCHECKBUILD BIN
MineICA 1.51.0  (landing page)
Anne Biton
git_last_commit: b926f54
git_last_commit_date: 2025-10-29 10:13:40 -0500
nebbiolo1Linux (Ubuntu 24.04.3 LTS) / x86_64  OK    OK    ERROR  
Package 21/30HostnameOS / ArchINSTALLBUILDCHECKBUILD BIN
MLInterfaces 1.91.0  (landing page)
Vincent Carey
git_last_commit: e9c6af4
git_last_commit_date: 2025-10-29 09:55:18 -0500
nebbiolo1Linux (Ubuntu 24.04.3 LTS) / x86_64  OK    OK    WARNINGS  UNNEEDED, same version is already published
Package 22/30HostnameOS / ArchINSTALLBUILDCHECKBUILD BIN
phenoTest 1.59.0  (landing page)
Evarist Planet
git_last_commit: 882e53c
git_last_commit_date: 2025-10-29 10:06:30 -0500
nebbiolo1Linux (Ubuntu 24.04.3 LTS) / x86_64  OK    OK    OK  UNNEEDED, same version is already published
Package 23/30HostnameOS / ArchINSTALLBUILDCHECKBUILD BIN
PREDA 1.57.0  (landing page)
Francesco Ferrari
git_last_commit: 082ec94
git_last_commit_date: 2025-10-29 10:08:27 -0500
nebbiolo1Linux (Ubuntu 24.04.3 LTS) / x86_64  OK    OK    WARNINGS  UNNEEDED, same version is already published
Package 24/30HostnameOS / ArchINSTALLBUILDCHECKBUILD BIN
qpgraph 2.45.0  (landing page)
Robert Castelo
git_last_commit: eff82ca
git_last_commit_date: 2025-10-29 10:02:10 -0500
nebbiolo1Linux (Ubuntu 24.04.3 LTS) / x86_64  OK    OK    OK  NO, package depends on 'GenomicFeatures' which is not available
Package 25/30HostnameOS / ArchINSTALLBUILDCHECKBUILD BIN
ReportingTools 2.51.0  (landing page)
Jason A. Hackney , Gabriel Becker
git_last_commit: ba00f72
git_last_commit_date: 2025-10-29 10:12:14 -0500
nebbiolo1Linux (Ubuntu 24.04.3 LTS) / x86_64  OK    OK    OK  NO, package depends on 'ggbio' which is not available
Package 26/30HostnameOS / ArchINSTALLBUILDCHECKBUILD BIN
sampleClassifier 1.35.0  (landing page)
Khadija El Amrani
git_last_commit: 8901504
git_last_commit_date: 2025-10-29 11:05:39 -0500
nebbiolo1Linux (Ubuntu 24.04.3 LTS) / x86_64  OK    OK    OK  NO, package depends on 'MGFR' which is not available
Package 27/30HostnameOS / ArchINSTALLBUILDCHECKBUILD BIN
SemDist 1.45.0  (landing page)
Ian Gonzalez
git_last_commit: f13588e
git_last_commit_date: 2025-10-29 10:20:53 -0500
nebbiolo1Linux (Ubuntu 24.04.3 LTS) / x86_64  OK    OK    OK  UNNEEDED, same version is already published
Package 28/30HostnameOS / ArchINSTALLBUILDCHECKBUILD BIN
SGCP 1.11.0  (landing page)
Niloofar AghaieAbiane
git_last_commit: d3ffc3a
git_last_commit_date: 2025-10-29 11:20:24 -0500
nebbiolo1Linux (Ubuntu 24.04.3 LTS) / x86_64  OK    ERROR  skipped
Package 29/30HostnameOS / ArchINSTALLBUILDCHECKBUILD BIN
tigre 1.65.0  (landing page)
Antti Honkela
git_last_commit: 4b818eb
git_last_commit_date: 2025-10-29 10:04:43 -0500
nebbiolo1Linux (Ubuntu 24.04.3 LTS) / x86_64  OK    OK    OK  UNNEEDED, same version is already published
Package 30/30HostnameOS / ArchINSTALLBUILDCHECKBUILD BIN
UMI4Cats 1.21.0  (landing page)
Mireia Ramos-Rodriguez
git_last_commit: f049a0a
git_last_commit_date: 2025-10-29 11:01:19 -0500
nebbiolo1Linux (Ubuntu 24.04.3 LTS) / x86_64  OK    OK    OK  NO, package depends on 'regioneR' which is not available