Package: annotate Version: 1.89.0 Command: /home/biocbuild/bbs-3.23-bioc/R/bin/R CMD build --keep-empty-dirs --no-resave-data annotate StartedAt: 2025-11-05 16:17:38 -0500 (Wed, 05 Nov 2025) EndedAt: 2025-11-05 16:18:43 -0500 (Wed, 05 Nov 2025) EllapsedTime: 65.1 seconds RetCode: 0 Status: OK PackageFile: annotate_1.89.0.tar.gz PackageFileSize: 1.786 MiB